BEGIN:VCALENDAR
VERSION:2.0
PRODID:-//SCARLA - ECPv6.15.20//NONSGML v1.0//EN
CALSCALE:GREGORIAN
METHOD:PUBLISH
X-WR-CALNAME:SCARLA
X-ORIGINAL-URL:https://scarla.rutgers.edu
X-WR-CALDESC:Events for SCARLA
REFRESH-INTERVAL;VALUE=DURATION:PT1H
X-Robots-Tag:noindex
X-PUBLISHED-TTL:PT1H
BEGIN:VTIMEZONE
TZID:America/New_York
BEGIN:DAYLIGHT
TZOFFSETFROM:-0500
TZOFFSETTO:-0400
TZNAME:EDT
DTSTART:20240310T070000
END:DAYLIGHT
BEGIN:STANDARD
TZOFFSETFROM:-0400
TZOFFSETTO:-0500
TZNAME:EST
DTSTART:20241103T060000
END:STANDARD
BEGIN:DAYLIGHT
TZOFFSETFROM:-0500
TZOFFSETTO:-0400
TZNAME:EDT
DTSTART:20250309T070000
END:DAYLIGHT
BEGIN:STANDARD
TZOFFSETFROM:-0400
TZOFFSETTO:-0500
TZNAME:EST
DTSTART:20251102T060000
END:STANDARD
BEGIN:DAYLIGHT
TZOFFSETFROM:-0500
TZOFFSETTO:-0400
TZNAME:EDT
DTSTART:20260308T070000
END:DAYLIGHT
BEGIN:STANDARD
TZOFFSETFROM:-0400
TZOFFSETTO:-0500
TZNAME:EST
DTSTART:20261101T060000
END:STANDARD
END:VTIMEZONE
BEGIN:VEVENT
DTSTART;TZID=America/New_York:20250929T180000
DTEND;TZID=America/New_York:20250929T190000
DTSTAMP:20260422T122440
CREATED:20250915T022817Z
LAST-MODIFIED:20251009T031401Z
UID:1349-1759168800-1759172400@scarla.rutgers.edu
SUMMARY:General Meeting - September 2025
DESCRIPTION:Curious about academic librarianship? Come join SCARLA for our first general interest meeting of the semester. Everyone is welcome! SCARLA is the Student College\, Academic\, and Research Libraries Association at Rutgers. \nFeel free to bring your own questions\, and here are the main discussion topics: \n\nWhat is academic librarianship?\nWhat kind of jobs fall under that umbrella?\nWhat courses in the MI program can I take?\nOur first event this year\, Celebrating Intellectual Freedom: Banned Books Week\, is on October 6th. Click here to find the open-mic sign ups or to submit a video\, photo\, or text post honoring a banned book.\nWays you can participate with SCARLA\n\nInterested\, but can’t make it? Have any questions? Please reach out! Our email is rutgers.scarla@gmail.com or you can reach out to Lauren Gaudite at lg948@scarletmail.rutgers.edu. \nVisit our site to learn more: https://scarla.rutgers.edu \nWe hope to see you there! \nMeeting information:\nDate: September 29\, 2025\nTime: 6 PM – 7 PM EST\nLocation: Zoom – To attend\, please register for the event.
URL:https://scarla.rutgers.edu/event/general-meeting-september-2025/
CATEGORIES:2025,Fall 2025,Past Events
ATTACH;FMTTYPE=image/png:https://scarla.rutgers.edu/wp-content/uploads/sites/16/2025/09/SCARLA_GeneralMeeting_Sept2025-2.png
ORGANIZER;CN="SCARLA":MAILTO:rutgers.scarla@gmail.com
END:VEVENT
END:VCALENDAR