BEGIN:VCALENDAR
VERSION:2.0
PRODID:-//SCARLA - ECPv6.15.17.1//NONSGML v1.0//EN
CALSCALE:GREGORIAN
METHOD:PUBLISH
X-WR-CALNAME:SCARLA
X-ORIGINAL-URL:https://scarla.rutgers.edu
X-WR-CALDESC:Events for SCARLA
REFRESH-INTERVAL;VALUE=DURATION:PT1H
X-Robots-Tag:noindex
X-PUBLISHED-TTL:PT1H
BEGIN:VTIMEZONE
TZID:America/New_York
BEGIN:DAYLIGHT
TZOFFSETFROM:-0500
TZOFFSETTO:-0400
TZNAME:EDT
DTSTART:20210314T070000
END:DAYLIGHT
BEGIN:STANDARD
TZOFFSETFROM:-0400
TZOFFSETTO:-0500
TZNAME:EST
DTSTART:20211107T060000
END:STANDARD
BEGIN:DAYLIGHT
TZOFFSETFROM:-0500
TZOFFSETTO:-0400
TZNAME:EDT
DTSTART:20220313T070000
END:DAYLIGHT
BEGIN:STANDARD
TZOFFSETFROM:-0400
TZOFFSETTO:-0500
TZNAME:EST
DTSTART:20221106T060000
END:STANDARD
BEGIN:DAYLIGHT
TZOFFSETFROM:-0500
TZOFFSETTO:-0400
TZNAME:EDT
DTSTART:20230312T070000
END:DAYLIGHT
BEGIN:STANDARD
TZOFFSETFROM:-0400
TZOFFSETTO:-0500
TZNAME:EST
DTSTART:20231105T060000
END:STANDARD
END:VTIMEZONE
BEGIN:VEVENT
DTSTART;TZID=America/New_York:20220921T173000
DTEND;TZID=America/New_York:20220921T190000
DTSTAMP:20260422T083831
CREATED:20220916T032850Z
LAST-MODIFIED:20250925T004606Z
UID:1095-1663781400-1663786800@scarla.rutgers.edu
SUMMARY:BANNED: A Virtual Banned Books Read-Out & Discussions on the Freedom to Read
DESCRIPTION:September 21\, 2022 at 5:30 – 7:00pm EST (with optional informal discussion from 7:00-7:30pm)\nPresented by: SCARLA (The Student College\, Academic\, and Research Libraries Association)\, SOURCE (Student Organization for Unique and Rare Collections Everywhere)\, and LISSA (Library and Information Science Student Association) \nAs part of Banned Book Week\, you are invited to BANNED: A Virtual Banned Books Read-Out & Discussions on the Freedom to Read on September 21 at 5:30pm EST. In addition to “flash-talks” from Rutgers-NB librarians and SC&I faculty on censorship and free speech\, this virtual open mic-night will also give participants the opportunity to read from\, listen to\, and celebrate their favorite banned/challenged books. All kinds of texts are welcome\, as are all languages! Please note that read-out performances will be limited to 2 minutes each\, so choose your excerpt wisely. \nHowever\, no read-out participation is required! Even just tuning in to listen can be a radical act in the celebration of banned books\, freedom of speech\, and speaking truth to power. \nSIGN-UP FOR READ-OUT HERE
URL:https://scarla.rutgers.edu/event/banned-a-virtual-banned-books-read-out-discussions-on-the-freedom-to-read/
CATEGORIES:Past Events,Pre-2025
END:VEVENT
END:VCALENDAR